BEGIN:VCALENDAR
VERSION:2.0
PRODID:-//Sage Learning in Retirement - ECPv6.10.0//NONSGML v1.0//EN
CALSCALE:GREGORIAN
METHOD:PUBLISH
X-ORIGINAL-URL:https://sagelearninginretirement.org
X-WR-CALDESC:Events for Sage Learning in Retirement
REFRESH-INTERVAL;VALUE=DURATION:PT1H
X-Robots-Tag:noindex
X-PUBLISHED-TTL:PT1H
BEGIN:VTIMEZONE
TZID:America/Los_Angeles
BEGIN:DAYLIGHT
TZOFFSETFROM:-0800
TZOFFSETTO:-0700
TZNAME:PDT
DTSTART:20240310T100000
END:DAYLIGHT
BEGIN:STANDARD
TZOFFSETFROM:-0700
TZOFFSETTO:-0800
TZNAME:PST
DTSTART:20241103T090000
END:STANDARD
END:VTIMEZONE
BEGIN:VEVENT
DTSTART;TZID=America/Los_Angeles:20240913T093000
DTEND;TZID=America/Los_Angeles:20240913T120000
DTSTAMP:20260420T220453
CREATED:20240902T004216Z
LAST-MODIFIED:20240902T004216Z
UID:9027-1726219800-1726228800@sagelearninginretirement.org
SUMMARY:Unique Tour of the Jet Propulsion Laboratory(JPL)
DESCRIPTION:An extraordinary opportunity to tour JPL laboratories \nA list of attendees will need to be submitted to JPL by September 4 for security purposes. Please register earlier. \nClick here to sign up for the event \n\n\n  \n\n\n\n\n\n\n\n\n\n\n\n\n\n\n\n\n\n\n\n\n	\n		\n		 \n	\n	\n		\n		 \n	\n	\n		\n		 \n	\n	\n		\n		 \n	\n	\n		\n		 \n	\n	\n		\n		 \n	\nΔ
URL:https://sagelearninginretirement.org/event/jpl-laboratory/
CATEGORIES:In Person
ATTACH;FMTTYPE=image/jpeg:https://sagelearninginretirement.org/wp-content/uploads/2024/09/D2E4366E-DC40-4124-A27E-F1CDA2401D5F_1_201_a.jpeg
END:VEVENT
END:VCALENDAR